BEGIN:VCALENDAR
VERSION:2.0
PRODID:-//prolifedallas.org//NONSGML eventview//EN
METHOD:PUBLISH
BEGIN:VEVENT
UID:40591767891242
DTSTAMP:20260919T090000
DTSTART:20260919T090000
DTEND:20260919T140000
LOCATION:
SUMMARY:Gabriel Angel Training (English)
DESCRIPTION:Angel Training
END:VEVENT
END:VCALENDAR